BEGIN:VCALENDAR
VERSION:2.0
PRODID:-//Magenbrot//NONSGML kigkonsult.se iCalcreator 2.41.92//
CALSCALE:GREGORIAN
METHOD:PUBLISH
UID:38653230-3139-4161-b561-353261663866
X-WR-CALNAME:iCagenda
X-WR-CALDESC:Event Management Extension for Joomla!
X-WR-RELCALID:3E26604A-50F4-4449-8B3E-E4F4932D05B5
X-WR-TIMEZONE:Europe/Zurich
BEGIN:VTIMEZONE
TZID:Europe/Zurich
TZUNTIL:20280326T010000Z
BEGIN:STANDARD
TZNAME:CET
DTSTART:20251026T030000
TZOFFSETFROM:+0200
TZOFFSETTO:+0100
RDATE:20261025T030000
RDATE:20271031T030000
END:STANDARD
BEGIN:DAYLIGHT
TZNAME:CEST
DTSTART:20260329T020000
TZOFFSETFROM:+0100
TZOFFSETTO:+0200
RDATE:20270328T020000
END:DAYLIGHT
END:VTIMEZONE
BEGIN:VEVENT
UID:65663363-6539-4265-b561-363437326161
DTSTAMP:20260423T145006Z
CATEGORIES:Marktplan
CLASS:PUBLIC
DESCRIPTION;ALTREP="CID:<FFFF__=0ABBE548DFE235B58f9e8a93d@coffeebean.com>":
 Die Pferdesporttage Uster sind unser jährliches Reitsport-Highlight\, bei 
 dem sich Reiterinnen und Reiter in Prüfungen messen und Zuschauer spannend
 en Pferdesport in besonderer Turnieratmosphäre erleben.
DTSTART:20260508T070000Z
DTEND:20260510T190000Z
GEO:+47.356903;+8.725784
LOCATION:Reithalle Uster
ORGANIZER:
SEQUENCE:1
SUMMARY:Pferdesporttage in Uster
TRANSP:OPAQUE
URL:https://magenbrot.ch/kontakt/marktplan/40-pferdesporttage-in-uster-2?la
 yout=vcal
END:VEVENT
END:VCALENDAR
