BEGIN:VCALENDAR
VERSION:2.0
PRODID:-//Magenbrot//NONSGML kigkonsult.se iCalcreator 2.41.92//
CALSCALE:GREGORIAN
METHOD:PUBLISH
UID:37636634-6334-4834-b761-353539633237
X-WR-CALNAME:iCagenda
X-WR-CALDESC:Event Management Extension for Joomla!
X-WR-RELCALID:3E26604A-50F4-4449-8B3E-E4F4932D05B5
X-WR-TIMEZONE:Europe/Zurich
BEGIN:VTIMEZONE
TZID:Europe/Zurich
TZUNTIL:20271031T010000Z
BEGIN:STANDARD
TZNAME:CET
DTSTART:20251026T030000
TZOFFSETFROM:+0200
TZOFFSETTO:+0100
RDATE:20261025T030000
END:STANDARD
BEGIN:DAYLIGHT
TZNAME:CEST
DTSTART:20260329T020000
TZOFFSETFROM:+0100
TZOFFSETTO:+0200
RDATE:20270328T020000
END:DAYLIGHT
END:VTIMEZONE
BEGIN:VEVENT
UID:36656233-6162-4436-a531-373639316636
DTSTAMP:20260422T101443Z
CATEGORIES:Marktplan
CLASS:PUBLIC
DESCRIPTION;ALTREP="CID:<FFFF__=0ABBE548DFE235B58f9e8a93d@coffeebean.com>":
 Die Stubete Gäng kommt zurück in die Reithalle Uster!\nAm 30. April 2026 b
 ringen die Jungs aus dem Zugerland ihren unverwechselbaren «Örbn Ländlr»-S
 ound nach Uster – eine Mischung aus traditioneller Volksmusik\, Hip-Hop\, 
 Pop und Party-Energie.
DTSTART:20260430T160000Z
DTEND:20260430T160000Z
GEO:00;0
LOCATION:Reithalle Uster
ORGANIZER:
SEQUENCE:1
SUMMARY:Stubete Gäng - Reithalle Uster
TRANSP:OPAQUE
URL:https://magenbrot.ch/kontakt/marktplan/38-stubete-gaeng-reithalle-uster
 /2026-04-30-18-00?layout=vcal
END:VEVENT
END:VCALENDAR
